BEGIN:VCALENDAR
VERSION:2.0
PRODID:icalendar-ruby
CALSCALE:GREGORIAN
METHOD:PUBLISH
BEGIN:VEVENT
DTSTAMP:20260419T213635Z
UID:22-223425@kingdommanifesterschurch.org
DTSTART:20260823T143000Z
DTEND:20260823T153000Z
CLASS:PUBLIC
CREATED:20260325T135202
DESCRIPTION:
LAST-MODIFIED:20260325T135202
LOCATION:2401 McCurdy St.   Fort Worth\, Texas 76104
SUMMARY:Youth Sunday
URL;VALUE=URI:https://kingdommanifesterschurch.org/events/youth-sunday/2026
 -08-23
ATTACH;FILENAME=Youth-Sunday-SFI.jpg;FMTTYPE=image/jpeg:https://dq5pwpg1q8r
 u0.cloudfront.net/2026/01/15/01/49/41/d611ef48-df75-4341-b70c-0eb0465b9497
 /Youth-Sunday-SFI.jpg
END:VEVENT
END:VCALENDAR
