BEGIN:VCALENDAR
VERSION:2.0
PRODID:icalendar-ruby
CALSCALE:GREGORIAN
METHOD:PUBLISH
BEGIN:VEVENT
DTSTAMP:20260421T041007Z
UID:11-228199@kingdommanifesterschurch.org
DTSTART:20261018T143000Z
DTEND:20261018T153000Z
CLASS:PUBLIC
CREATED:20260420T200746
DESCRIPTION:
LAST-MODIFIED:20260420T200746
LOCATION:2401 McCurdy St.   Fort Worth\, Texas 76104
SUMMARY:Sunday Service
URL;VALUE=URI:https://kingdommanifesterschurch.org/events/sunday-service/20
 26-10-18
ATTACH;FILENAME=worship.jpg;FMTTYPE=image/jpeg:https://dq5pwpg1q8ru0.cloudf
 ront.net/2025/12/13/05/23/06/57d801c7-9022-4913-8c68-aa8c269f0cb6/worship.
 jpg
END:VEVENT
END:VCALENDAR
